BEGIN:VCALENDAR
VERSION:2.0
PRODID:icalendar-ruby
CALSCALE:GREGORIAN
METHOD:PUBLISH
BEGIN:VEVENT
DTSTAMP:20260421T165744Z
UID:11-3364813@sjtdcourtenay.ca
DTSTART:20261028T170000Z
DTEND:20261028T174500Z
CLASS:PUBLIC
CREATED:20260421T084310
DESCRIPTION:Eucharist services offered every Sunday and Wednesday at 10am.
LAST-MODIFIED:20260421T084310
LOCATION:church
SUMMARY:Wednesday Eucharist Service
URL;VALUE=URI:https://www.sjtdcourtenay.ca/events/wednesday-eucharist-servi
 ce/2026-10-28
ATTACH;FILENAME=Alastair-laughing.jpg;FMTTYPE=image/jpeg:https://dq5pwpg1q8
 ru0.cloudfront.net/2021/09/03/10/08/08/bde92736-2aa1-4468-859a-0608599d989
 9/Alastair-laughing.jpg
END:VEVENT
END:VCALENDAR
