BEGIN:VCALENDAR
VERSION:2.0
PRODID:icalendar-ruby
CALSCALE:GREGORIAN
METHOD:PUBLISH
BEGIN:VEVENT
DTSTAMP:20260421T151642Z
UID:11-3362727@sjtdcourtenay.ca
DTSTART:20261021T170000Z
DTEND:20261021T174500Z
CLASS:PUBLIC
CREATED:20260421T060636
DESCRIPTION:Eucharist services offered every Sunday and Wednesday at 10am.
LAST-MODIFIED:20260421T060636
LOCATION:church
SUMMARY:Wednesday Eucharist Service
URL;VALUE=URI:https://www.sjtdcourtenay.ca/events/wednesday-eucharist-servi
 ce/2026-10-21
ATTACH;FILENAME=Alastair-laughing.jpg;FMTTYPE=image/jpeg:https://dq5pwpg1q8
 ru0.cloudfront.net/2021/09/03/10/08/08/bde92736-2aa1-4468-859a-0608599d989
 9/Alastair-laughing.jpg
END:VEVENT
END:VCALENDAR
