BEGIN:VCALENDAR
VERSION:2.0
PRODID:icalendar-ruby
CALSCALE:GREGORIAN
METHOD:PUBLISH
BEGIN:VEVENT
DTSTAMP:20260425T160013Z
UID:475-3415100@sjtdcourtenay.ca
DTSTART:20261016T160000Z
DTEND:20261016T190000Z
CLASS:PUBLIC
CREATED:20260425T085404
DESCRIPTION:
LAST-MODIFIED:20260425T085404
LOCATION:hall
SUMMARY:Tai chi -RENTER
URL;VALUE=URI:https://www.sjtdcourtenay.ca/events/tai-chi-renter/2026-10-16
ATTACH;FILENAME=tai-chi-friday.png;FMTTYPE=image/png:https://dq5pwpg1q8ru0.
 cloudfront.net/2023/07/26/12/54/42/36150dfb-f5dd-495b-adb9-5d4827bcb83f/ta
 i-chi-friday.png
END:VEVENT
END:VCALENDAR
