BEGIN:VCALENDAR
VERSION:2.0
PRODID:icalendar-ruby
CALSCALE:GREGORIAN
METHOD:PUBLISH
BEGIN:VEVENT
DTSTAMP:20260425T164728Z
UID:541-3415401@sjtdcourtenay.ca
DTSTART:20261107T030000Z
DTEND:20261107T040000Z
CLASS:PUBLIC
CREATED:20260425T085406
DESCRIPTION:
LAST-MODIFIED:20260425T085406
LOCATION:hall
SUMMARY:N.A. - RENTER
URL;VALUE=URI:https://www.sjtdcourtenay.ca/events/n-a-renter/2026-11-06
END:VEVENT
END:VCALENDAR
