BEGIN:VCALENDAR
VERSION:2.0
PRODID:icalendar-ruby
CALSCALE:GREGORIAN
METHOD:PUBLISH
BEGIN:VEVENT
DTSTAMP:20260425T150145Z
UID:541-3413359@sjtdcourtenay.ca
DTSTART:20261031T020000Z
DTEND:20261031T030000Z
CLASS:PUBLIC
CREATED:20260425T061334
DESCRIPTION:
LAST-MODIFIED:20260425T061334
LOCATION:hall
SUMMARY:N.A. - RENTER
URL;VALUE=URI:https://www.sjtdcourtenay.ca/events/n-a-renter/2026-10-30
END:VEVENT
END:VCALENDAR
