BEGIN:VCALENDAR
VERSION:2.0
PRODID:icalendar-ruby
CALSCALE:GREGORIAN
METHOD:PUBLISH
BEGIN:VEVENT
DTSTAMP:20260425T132336Z
UID:541-3413358@sjtdcourtenay.ca
DTSTART:20261024T020000Z
DTEND:20261024T030000Z
CLASS:PUBLIC
CREATED:20260425T061334
DESCRIPTION:
LAST-MODIFIED:20260425T061334
LOCATION:hall
SUMMARY:N.A. - RENTER
URL;VALUE=URI:https://www.sjtdcourtenay.ca/events/n-a-renter/2026-10-23
END:VEVENT
END:VCALENDAR
