BEGIN:VCALENDAR
VERSION:2.0
PRODID:icalendar-ruby
CALSCALE:GREGORIAN
METHOD:PUBLISH
BEGIN:VEVENT
DTSTAMP:20260425T114625Z
UID:541-3411316@sjtdcourtenay.ca
DTSTART:20261017T020000Z
DTEND:20261017T030000Z
CLASS:PUBLIC
CREATED:20260425T033200
DESCRIPTION:
LAST-MODIFIED:20260425T033200
LOCATION:hall
SUMMARY:N.A. - RENTER
URL;VALUE=URI:https://www.sjtdcourtenay.ca/events/n-a-renter/2026-10-16
END:VEVENT
END:VCALENDAR
