BEGIN:VCALENDAR
VERSION:2.0
PRODID:icalendar-ruby
CALSCALE:GREGORIAN
METHOD:PUBLISH
BEGIN:VEVENT
DTSTAMP:20260422T120505Z
UID:697-3281704@sjtdcourtenay.ca
DTSTART:20260424T000000Z
DTEND:20260424T020000Z
CLASS:PUBLIC
CREATED:20260414T114125
DESCRIPTION:
LAST-MODIFIED:20260414T114125
LOCATION:church
SUMMARY:Dagmar practice
URL;VALUE=URI:https://www.sjtdcourtenay.ca/events/dagmar-practice--697/2026
 -04-23
END:VEVENT
END:VCALENDAR
