BEGIN:VCALENDAR
VERSION:2.0
PRODID:icalendar-ruby
CALSCALE:GREGORIAN
METHOD:PUBLISH
BEGIN:VEVENT
DTSTAMP:20260425T145614Z
UID:443-3412554@sjtdcourtenay.ca
DTSTART:20261025T210000Z
DTEND:20261026T000000Z
CLASS:PUBLIC
CREATED:20260425T061330
DESCRIPTION:Pastor J. Park\nevery Sunday from 2-5pm in the church and the h
 all and every Wednesday\, Thursday and Friday between 6-7am for fellowship
  in the hall.\n 
LAST-MODIFIED:20260425T061330
LOCATION:church\, hall & kitchen
SUMMARY:CV Korean Baptist
URL;VALUE=URI:https://www.sjtdcourtenay.ca/events/cv-korean-baptist/2026-10
 -25
ATTACH;FILENAME=CV Korean Baptist.png;FMTTYPE=image/png:https://dq5pwpg1q8r
 u0.cloudfront.net/2023/05/03/12/22/46/d458d60f-89f3-4026-83ed-d2b85f40796c
 /CV%20Korean%20Baptist.png
END:VEVENT
END:VCALENDAR
