BEGIN:VCALENDAR
VERSION:2.0
PRODID:icalendar-ruby
CALSCALE:GREGORIAN
METHOD:PUBLISH
BEGIN:VEVENT
DTSTAMP:20260425T140005Z
UID:444-3412733@sjtdcourtenay.ca
DTSTART:20261029T010000Z
DTEND:20261029T020000Z
CLASS:PUBLIC
CREATED:20260425T061331
DESCRIPTION:CV Korean Baptist fellowship in the church every  Wed\, from 6
 pm to 7pm. 
LAST-MODIFIED:20260425T061331
LOCATION:church
SUMMARY:CV Korean Baptist Fellowship
URL;VALUE=URI:https://www.sjtdcourtenay.ca/events/cv-korean-baptist-fellows
 hip/2026-10-28
ATTACH;FILENAME=CV Korean Baptist.png;FMTTYPE=image/png:https://dq5pwpg1q8r
 u0.cloudfront.net/2023/07/26/12/12/33/a25c5495-f758-41ed-9b0f-ff5a1f9072db
 /CV%20Korean%20Baptist.png
END:VEVENT
END:VCALENDAR
