BEGIN:VCALENDAR
VERSION:2.0
PRODID:icalendar-ruby
CALSCALE:GREGORIAN
METHOD:PUBLISH
BEGIN:VEVENT
DTSTAMP:20260425T120248Z
UID:444-3410691@sjtdcourtenay.ca
DTSTART:20261022T010000Z
DTEND:20261022T020000Z
CLASS:PUBLIC
CREATED:20260425T033157
DESCRIPTION:CV Korean Baptist fellowship in the church every  Wed\, from 6
 pm to 7pm. 
LAST-MODIFIED:20260425T033157
LOCATION:church
SUMMARY:CV Korean Baptist Fellowship
URL;VALUE=URI:https://www.sjtdcourtenay.ca/events/cv-korean-baptist-fellows
 hip/2026-10-21
ATTACH;FILENAME=CV Korean Baptist.png;FMTTYPE=image/png:https://dq5pwpg1q8r
 u0.cloudfront.net/2023/07/26/12/12/33/a25c5495-f758-41ed-9b0f-ff5a1f9072db
 /CV%20Korean%20Baptist.png
END:VEVENT
END:VCALENDAR
