BEGIN:VCALENDAR
VERSION:2.0
PRODID:icalendar-ruby
CALSCALE:GREGORIAN
METHOD:PUBLISH
BEGIN:VEVENT
DTSTAMP:20260423T002555Z
UID:587-3382970@sjtdcourtenay.ca
DTSTART:20261015T020000Z
DTEND:20261015T040000Z
CLASS:PUBLIC
CREATED:20260422T151320
DESCRIPTION:Round Dancers
LAST-MODIFIED:20260422T151320
LOCATION:hall
SUMMARY:Courtenay Rounders - RENTER
URL;VALUE=URI:https://www.sjtdcourtenay.ca/events/courtenay-rounders-renter
 --587/2026-10-14
ATTACH;FILENAME=Courtenay-rounders-Wednesday.png;FMTTYPE=image/png:https://
 dq5pwpg1q8ru0.cloudfront.net/2025/11/28/17/57/43/e90291f2-58ef-454c-9f04-4
 f21751feb86/Courtenay-rounders-Wednesday.png
END:VEVENT
END:VCALENDAR
