BEGIN:VCALENDAR
VERSION:2.0
PRODID:icalendar-ruby
CALSCALE:GREGORIAN
METHOD:PUBLISH
BEGIN:VEVENT
DTSTAMP:20260422T090007Z
UID:583-3372655@sjtdcourtenay.ca
DTSTART:20261015T193000Z
DTEND:20261015T210000Z
CLASS:PUBLIC
CREATED:20260421T163735
DESCRIPTION:Everyone welcome. Every Thursday at 12:30pm in the church.
LAST-MODIFIED:20260421T163735
LOCATION:church
SUMMARY:Choir Practice
URL;VALUE=URI:https://www.sjtdcourtenay.ca/events/choir-practice/2026-10-15
ATTACH;FILENAME=choir-practice.jpg;FMTTYPE=image/jpeg:https://dq5pwpg1q8ru0
 .cloudfront.net/2024/10/15/19/57/42/10718543-9d4b-4b7b-b5fb-adf5aab7619f/c
 hoir-practice.jpg
END:VEVENT
END:VCALENDAR
