BEGIN:VCALENDAR
VERSION:2.0
PRODID:icalendar-ruby
CALSCALE:GREGORIAN
METHOD:PUBLISH
BEGIN:VEVENT
DTSTAMP:20260423T060017Z
UID:626-3385076@sjtdcourtenay.ca
DTSTART:20261102T170000Z
DTEND:20261102T210000Z
CLASS:PUBLIC
CREATED:20260422T180507
DESCRIPTION:Provides kitchen and housewares\, clothing\, bedding\, and toil
 etries at no cost. Every item at the Blessings Boutique is free to anyone\
 , regardless of their need. It is meant to be a blessing for all.\nAny cas
 h donations made by those who choose to do so will be graciously accepted 
 and used to buy items for the boutique.\nThe Blessings Boutique will be op
 en Mondays 9am to 1pm. \nCoffee\, snack and fellowship also offered.\nPle
 ase Note: The Blessing Boutique will be closed on Statutory Holidays.
LAST-MODIFIED:20260422T180507
LOCATION:hall
SUMMARY:Blessing Boutique - FREE Store
URL;VALUE=URI:https://www.sjtdcourtenay.ca/events/blessing-boutique-free-st
 ore/2026-11-02
ATTACH;FILENAME=blessing-boutique-logo-website.jpg;FMTTYPE=image/jpeg:https
 ://dq5pwpg1q8ru0.cloudfront.net/2025/04/15/17/01/02/f2b13e1c-6094-4134-840
 3-11c4ffc21613/blessing-boutique-logo-website.jpg
END:VEVENT
END:VCALENDAR
