BEGIN:VCALENDAR
VERSION:2.0
PRODID:icalendar-ruby
CALSCALE:GREGORIAN
METHOD:PUBLISH
BEGIN:VEVENT
DTSTAMP:20260423T005519Z
UID:283-3381746@sjtdcourtenay.ca
DTSTART:20261027T223000Z
DTEND:20261027T233000Z
CLASS:PUBLIC
CREATED:20260422T151313
DESCRIPTION:Please join us 3:30pm on Tuesday's (via Zoom) for our weekly pa
 rish bible study "The G.I.G." (The Group Investigating God). We use the Le
 ctio Divina method to prayerfully and thoughtfully engage with scripture.
  \nThe link is: https://bc-anglican-ca.zoom.us/j/96137290644?pwd=UFhJY2N
 yQ0VIcnBtNHAwcTRkSEtRdz09
LAST-MODIFIED:20260422T151313
LOCATION:ZOOM
SUMMARY:Bible Study - "The G.I.G."
URL;VALUE=URI:https://www.sjtdcourtenay.ca/events/bible-study-the-g-i-g--28
 3/2026-10-27
ATTACH;FILENAME=stainglass eagle.jpg;FMTTYPE=image/jpeg:https://dq5pwpg1q8r
 u0.cloudfront.net/2022/09/08/12/13/11/374cc726-324f-47aa-aee1-04c268b8b95f
 /stainglass%20eagle.jpg
END:VEVENT
END:VCALENDAR
