BEGIN:VCALENDAR
VERSION:2.0
PRODID:icalendar-ruby
CALSCALE:GREGORIAN
METHOD:PUBLISH
BEGIN:VEVENT
DTSTAMP:20260425T181246Z
UID:260-3414318@sjtdcourtenay.ca
DTSTART:20261106T040000Z
DTEND:20261106T050000Z
CLASS:PUBLIC
CREATED:20260425T085401
DESCRIPTION:
LAST-MODIFIED:20260425T085401
LOCATION:hall  8-9pm
SUMMARY:AA Men's - RENTER
URL;VALUE=URI:https://www.sjtdcourtenay.ca/events/aa-mens-renter/2026-11-05
END:VEVENT
END:VCALENDAR
