BEGIN:VCALENDAR
VERSION:2.0
PRODID:icalendar-ruby
CALSCALE:GREGORIAN
METHOD:PUBLISH
BEGIN:VEVENT
DTSTAMP:20260425T145400Z
UID:260-3412275@sjtdcourtenay.ca
DTSTART:20261023T030000Z
DTEND:20261023T040000Z
CLASS:PUBLIC
CREATED:20260425T061329
DESCRIPTION:
LAST-MODIFIED:20260425T061329
LOCATION:hall  8-9pm
SUMMARY:AA Men's - RENTER
URL;VALUE=URI:https://www.sjtdcourtenay.ca/events/aa-mens-renter/2026-10-22
END:VEVENT
END:VCALENDAR
